BEGIN:VCALENDAR
VERSION:2.0
PRODID:-//Angelsportverein Forst 1975 e.V. - ECPv6.15.20//NONSGML v1.0//EN
CALSCALE:GREGORIAN
METHOD:PUBLISH
X-WR-CALNAME:Angelsportverein Forst 1975 e.V.
X-ORIGINAL-URL:https://www.asvforst.de
X-WR-CALDESC:Veranstaltungen für Angelsportverein Forst 1975 e.V.
REFRESH-INTERVAL;VALUE=DURATION:PT1H
X-Robots-Tag:noindex
X-PUBLISHED-TTL:PT1H
BEGIN:VTIMEZONE
TZID:Europe/Berlin
BEGIN:DAYLIGHT
TZOFFSETFROM:+0100
TZOFFSETTO:+0200
TZNAME:CEST
DTSTART:20230326T010000
END:DAYLIGHT
BEGIN:STANDARD
TZOFFSETFROM:+0200
TZOFFSETTO:+0100
TZNAME:CET
DTSTART:20231029T010000
END:STANDARD
BEGIN:DAYLIGHT
TZOFFSETFROM:+0100
TZOFFSETTO:+0200
TZNAME:CEST
DTSTART:20240331T010000
END:DAYLIGHT
BEGIN:STANDARD
TZOFFSETFROM:+0200
TZOFFSETTO:+0100
TZNAME:CET
DTSTART:20241027T010000
END:STANDARD
BEGIN:DAYLIGHT
TZOFFSETFROM:+0100
TZOFFSETTO:+0200
TZNAME:CEST
DTSTART:20250330T010000
END:DAYLIGHT
BEGIN:STANDARD
TZOFFSETFROM:+0200
TZOFFSETTO:+0100
TZNAME:CET
DTSTART:20251026T010000
END:STANDARD
END:VTIMEZONE
BEGIN:VEVENT
DTSTART;TZID=Europe/Berlin:20240608T090000
DTEND;TZID=Europe/Berlin:20240608T170000
DTSTAMP:20260426T063333
CREATED:20240126T205025Z
LAST-MODIFIED:20240127T123423Z
UID:1094-1717837200-1717866000@www.asvforst.de
SUMMARY:Seminar Taucher
DESCRIPTION:
URL:https://www.asvforst.de/event/seminar-taucher-5/
LOCATION:Petri Hütte
ORGANIZER;CN="Angelsportverein Forst 1975 e.V.":MAILTO:Vorstand@asvforst.de
END:VEVENT
BEGIN:VEVENT
DTSTART;TZID=Europe/Berlin:20240609T090000
DTEND;TZID=Europe/Berlin:20240609T170000
DTSTAMP:20260426T063333
CREATED:20240127T123451Z
LAST-MODIFIED:20240127T123451Z
UID:1120-1717923600-1717952400@www.asvforst.de
SUMMARY:Seminar Taucher
DESCRIPTION:
URL:https://www.asvforst.de/event/seminar-taucher-6/
LOCATION:Petri Hütte
ORGANIZER;CN="Angelsportverein Forst 1975 e.V.":MAILTO:Vorstand@asvforst.de
END:VEVENT
END:VCALENDAR