BEGIN:VCALENDAR
VERSION:2.0
PRODID:-//Angelsportverein Forst 1975 e.V. - ECPv6.15.20//NONSGML v1.0//EN
CALSCALE:GREGORIAN
METHOD:PUBLISH
X-ORIGINAL-URL:https://www.asvforst.de
X-WR-CALDESC:Veranstaltungen für Angelsportverein Forst 1975 e.V.
REFRESH-INTERVAL;VALUE=DURATION:PT1H
X-Robots-Tag:noindex
X-PUBLISHED-TTL:PT1H
BEGIN:VTIMEZONE
TZID:Europe/Berlin
BEGIN:DAYLIGHT
TZOFFSETFROM:+0100
TZOFFSETTO:+0200
TZNAME:CEST
DTSTART:20250330T010000
END:DAYLIGHT
BEGIN:STANDARD
TZOFFSETFROM:+0200
TZOFFSETTO:+0100
TZNAME:CET
DTSTART:20251026T010000
END:STANDARD
BEGIN:DAYLIGHT
TZOFFSETFROM:+0100
TZOFFSETTO:+0200
TZNAME:CEST
DTSTART:20260329T010000
END:DAYLIGHT
BEGIN:STANDARD
TZOFFSETFROM:+0200
TZOFFSETTO:+0100
TZNAME:CET
DTSTART:20261025T010000
END:STANDARD
BEGIN:DAYLIGHT
TZOFFSETFROM:+0100
TZOFFSETTO:+0200
TZNAME:CEST
DTSTART:20270328T010000
END:DAYLIGHT
BEGIN:STANDARD
TZOFFSETFROM:+0200
TZOFFSETTO:+0100
TZNAME:CET
DTSTART:20271031T010000
END:STANDARD
END:VTIMEZONE
BEGIN:VEVENT
DTSTART;VALUE=DATE:20260517
DTEND;VALUE=DATE:20260518
DTSTAMP:20260424T114318
CREATED:20260215T164637Z
LAST-MODIFIED:20260215T164637Z
UID:1332-1778976000-1779062399@www.asvforst.de
SUMMARY:Triathlon – Heideseegelände nicht nutzbar!
DESCRIPTION:
URL:https://www.asvforst.de/event/triathlon-heideseegelaende-nicht-nutzbar-6/
LOCATION:Petri Hütte
ORGANIZER;CN="Angelsportverein Forst 1975 e.V.":MAILTO:Vorstand@asvforst.de
END:VEVENT
BEGIN:VEVENT
DTSTART;VALUE=DATE:20260525
DTEND;VALUE=DATE:20260526
DTSTAMP:20260424T114318
CREATED:20260215T165015Z
LAST-MODIFIED:20260215T165015Z
UID:1335-1779667200-1779753599@www.asvforst.de
SUMMARY:Raubfischangeln
DESCRIPTION:
URL:https://www.asvforst.de/event/raubfischangeln-9/
LOCATION:Petri Hütte
ORGANIZER;CN="Angelsportverein Forst 1975 e.V.":MAILTO:Vorstand@asvforst.de
END:VEVENT
BEGIN:VEVENT
DTSTART;VALUE=DATE:20260620
DTEND;VALUE=DATE:20260621
DTSTAMP:20260424T114318
CREATED:20260215T165214Z
LAST-MODIFIED:20260215T165214Z
UID:1337-1781913600-1781999999@www.asvforst.de
SUMMARY:Süßwasserseminar BTSV
DESCRIPTION:
URL:https://www.asvforst.de/event/suesswasserseminar-btsv/
LOCATION:Petri Hütte
ORGANIZER;CN="Angelsportverein Forst 1975 e.V.":MAILTO:Vorstand@asvforst.de
END:VEVENT
BEGIN:VEVENT
DTSTART;VALUE=DATE:20260621
DTEND;VALUE=DATE:20260622
DTSTAMP:20260424T114318
CREATED:20260215T165257Z
LAST-MODIFIED:20260215T165257Z
UID:1339-1782000000-1782086399@www.asvforst.de
SUMMARY:Süßwasserseminar BTSV
DESCRIPTION:
URL:https://www.asvforst.de/event/suesswasserseminar-btsv-2/
LOCATION:Petri Hütte
ORGANIZER;CN="Angelsportverein Forst 1975 e.V.":MAILTO:Vorstand@asvforst.de
END:VEVENT
BEGIN:VEVENT
DTSTART;VALUE=DATE:20260724
DTEND;VALUE=DATE:20260725
DTSTAMP:20260424T114318
CREATED:20260215T165352Z
LAST-MODIFIED:20260215T165352Z
UID:1341-1784851200-1784937599@www.asvforst.de
SUMMARY:Jugendwochenende Heidesee
DESCRIPTION:
URL:https://www.asvforst.de/event/jugendwochenende-heidesee/
LOCATION:Petri Hütte
ORGANIZER;CN="Angelsportverein Forst 1975 e.V.":MAILTO:Vorstand@asvforst.de
END:VEVENT
BEGIN:VEVENT
DTSTART;VALUE=DATE:20260725
DTEND;VALUE=DATE:20260726
DTSTAMP:20260424T114318
CREATED:20260215T165419Z
LAST-MODIFIED:20260215T165419Z
UID:1343-1784937600-1785023999@www.asvforst.de
SUMMARY:Jugendwochenende Heidesee
DESCRIPTION:
URL:https://www.asvforst.de/event/jugendwochenende-heidesee-2/
LOCATION:Petri Hütte
ORGANIZER;CN="Angelsportverein Forst 1975 e.V.":MAILTO:Vorstand@asvforst.de
END:VEVENT
BEGIN:VEVENT
DTSTART;VALUE=DATE:20260726
DTEND;VALUE=DATE:20260727
DTSTAMP:20260424T114318
CREATED:20260215T165501Z
LAST-MODIFIED:20260215T165501Z
UID:1345-1785024000-1785110399@www.asvforst.de
SUMMARY:Jugendwochenende Heidesee
DESCRIPTION:
URL:https://www.asvforst.de/event/jugendwochenende-heidesee-3/
LOCATION:Petri Hütte
ORGANIZER;CN="Angelsportverein Forst 1975 e.V.":MAILTO:Vorstand@asvforst.de
END:VEVENT
BEGIN:VEVENT
DTSTART;TZID=Europe/Berlin:20260808T090000
DTEND;TZID=Europe/Berlin:20260808T170000
DTSTAMP:20260424T114318
CREATED:20260215T165646Z
LAST-MODIFIED:20260215T165646Z
UID:1347-1786179600-1786208400@www.asvforst.de
SUMMARY:Aufbau Fischerfest 2026
DESCRIPTION:
URL:https://www.asvforst.de/event/aufbau-fischerfest-2026/
LOCATION:Petri Hütte
ORGANIZER;CN="Angelsportverein Forst 1975 e.V.":MAILTO:Vorstand@asvforst.de
END:VEVENT
BEGIN:VEVENT
DTSTART;TZID=Europe/Berlin:20260812T090000
DTEND;TZID=Europe/Berlin:20260812T170000
DTSTAMP:20260424T114318
CREATED:20260215T165716Z
LAST-MODIFIED:20260215T165716Z
UID:1350-1786525200-1786554000@www.asvforst.de
SUMMARY:Aufbau Fischerfest 2026
DESCRIPTION:
URL:https://www.asvforst.de/event/aufbau-fischerfest-2026-2/
LOCATION:Petri Hütte
ORGANIZER;CN="Angelsportverein Forst 1975 e.V.":MAILTO:Vorstand@asvforst.de
END:VEVENT
BEGIN:VEVENT
DTSTART;TZID=Europe/Berlin:20260813T090000
DTEND;TZID=Europe/Berlin:20260813T170000
DTSTAMP:20260424T114318
CREATED:20260215T165741Z
LAST-MODIFIED:20260215T165741Z
UID:1352-1786611600-1786640400@www.asvforst.de
SUMMARY:Aufbau Fischerfest 2026
DESCRIPTION:
URL:https://www.asvforst.de/event/aufbau-fischerfest-2026-3/
LOCATION:Petri Hütte
ORGANIZER;CN="Angelsportverein Forst 1975 e.V.":MAILTO:Vorstand@asvforst.de
END:VEVENT
BEGIN:VEVENT
DTSTART;TZID=Europe/Berlin:20260814T090000
DTEND;TZID=Europe/Berlin:20260814T170000
DTSTAMP:20260424T114318
CREATED:20260215T165818Z
LAST-MODIFIED:20260215T165818Z
UID:1354-1786698000-1786726800@www.asvforst.de
SUMMARY:Aufbau Fischerfest 2026
DESCRIPTION:
URL:https://www.asvforst.de/event/aufbau-fischerfest-2026-4/
LOCATION:Petri Hütte
ORGANIZER;CN="Angelsportverein Forst 1975 e.V.":MAILTO:Vorstand@asvforst.de
END:VEVENT
BEGIN:VEVENT
DTSTART;VALUE=DATE:20260815
DTEND;VALUE=DATE:20260816
DTSTAMP:20260424T114318
CREATED:20260215T170001Z
LAST-MODIFIED:20260215T170001Z
UID:1356-1786752000-1786838399@www.asvforst.de
SUMMARY:Fischerfest 2026
DESCRIPTION:
URL:https://www.asvforst.de/event/fischerfest-2026/
LOCATION:Petri Hütte
ORGANIZER;CN="Angelsportverein Forst 1975 e.V.":MAILTO:Vorstand@asvforst.de
END:VEVENT
BEGIN:VEVENT
DTSTART;VALUE=DATE:20260816
DTEND;VALUE=DATE:20260817
DTSTAMP:20260424T114318
CREATED:20260215T170028Z
LAST-MODIFIED:20260215T170028Z
UID:1358-1786838400-1786924799@www.asvforst.de
SUMMARY:Fischerfest 2026
DESCRIPTION:
URL:https://www.asvforst.de/event/fischerfest-2026-2/
LOCATION:Petri Hütte
ORGANIZER;CN="Angelsportverein Forst 1975 e.V.":MAILTO:Vorstand@asvforst.de
END:VEVENT
BEGIN:VEVENT
DTSTART;TZID=Europe/Berlin:20260817T090000
DTEND;TZID=Europe/Berlin:20260817T140000
DTSTAMP:20260424T114318
CREATED:20260215T170113Z
LAST-MODIFIED:20260215T170135Z
UID:1360-1786957200-1786975200@www.asvforst.de
SUMMARY:Fischerfest 2026
DESCRIPTION:
URL:https://www.asvforst.de/event/fischerfest-2026-3/
LOCATION:Petri Hütte
ORGANIZER;CN="Angelsportverein Forst 1975 e.V.":MAILTO:Vorstand@asvforst.de
END:VEVENT
BEGIN:VEVENT
DTSTART;TZID=Europe/Berlin:20260817T150000
DTEND;TZID=Europe/Berlin:20260817T200000
DTSTAMP:20260424T114318
CREATED:20260215T170218Z
LAST-MODIFIED:20260215T170218Z
UID:1362-1786978800-1786996800@www.asvforst.de
SUMMARY:Abbau Fischerfest 2026
DESCRIPTION:
URL:https://www.asvforst.de/event/abbau-fischerfest-2026/
LOCATION:Petri Hütte
ORGANIZER;CN="Angelsportverein Forst 1975 e.V.":MAILTO:Vorstand@asvforst.de
END:VEVENT
BEGIN:VEVENT
DTSTART;TZID=Europe/Berlin:20260818T090000
DTEND;TZID=Europe/Berlin:20260818T170000
DTSTAMP:20260424T114318
CREATED:20260215T170255Z
LAST-MODIFIED:20260215T170255Z
UID:1364-1787043600-1787072400@www.asvforst.de
SUMMARY:Abbau Fischerfest 2026
DESCRIPTION:
URL:https://www.asvforst.de/event/abbau-fischerfest-2026-2/
LOCATION:Petri Hütte
ORGANIZER;CN="Angelsportverein Forst 1975 e.V.":MAILTO:Vorstand@asvforst.de
END:VEVENT
BEGIN:VEVENT
DTSTART;TZID=Europe/Berlin:20260819T090000
DTEND;TZID=Europe/Berlin:20260819T170000
DTSTAMP:20260424T114318
CREATED:20260215T170338Z
LAST-MODIFIED:20260215T170338Z
UID:1366-1787130000-1787158800@www.asvforst.de
SUMMARY:Abbau Fischerfest 2026
DESCRIPTION:
URL:https://www.asvforst.de/event/abbau-fischerfest-2026-3/
LOCATION:Petri Hütte
ORGANIZER;CN="Angelsportverein Forst 1975 e.V.":MAILTO:Vorstand@asvforst.de
END:VEVENT
BEGIN:VEVENT
DTSTART;TZID=Europe/Berlin:20260820T090000
DTEND;TZID=Europe/Berlin:20260820T170000
DTSTAMP:20260424T114318
CREATED:20260215T170445Z
LAST-MODIFIED:20260215T170445Z
UID:1368-1787216400-1787245200@www.asvforst.de
SUMMARY:Abbau Fischerfest 2026
DESCRIPTION:
URL:https://www.asvforst.de/event/abbau-fischerfest-2026-4/
LOCATION:Petri Hütte
ORGANIZER;CN="Angelsportverein Forst 1975 e.V.":MAILTO:Vorstand@asvforst.de
END:VEVENT
BEGIN:VEVENT
DTSTART;TZID=Europe/Berlin:20260821T090000
DTEND;TZID=Europe/Berlin:20260821T170000
DTSTAMP:20260424T114318
CREATED:20260215T170513Z
LAST-MODIFIED:20260215T170513Z
UID:1370-1787302800-1787331600@www.asvforst.de
SUMMARY:Abbau Fischerfest 2026
DESCRIPTION:
URL:https://www.asvforst.de/event/abbau-fischerfest-2026-5/
LOCATION:Petri Hütte
ORGANIZER;CN="Angelsportverein Forst 1975 e.V.":MAILTO:Vorstand@asvforst.de
END:VEVENT
BEGIN:VEVENT
DTSTART;VALUE=DATE:20260927
DTEND;VALUE=DATE:20260928
DTSTAMP:20260424T114318
CREATED:20260215T170627Z
LAST-MODIFIED:20260215T170627Z
UID:1372-1790467200-1790553599@www.asvforst.de
SUMMARY:Raubfischangeln
DESCRIPTION:
URL:https://www.asvforst.de/event/raubfischangeln-10/
LOCATION:Petri Hütte
ORGANIZER;CN="Angelsportverein Forst 1975 e.V.":MAILTO:Vorstand@asvforst.de
END:VEVENT
BEGIN:VEVENT
DTSTART;TZID=Europe/Berlin:20261017T090000
DTEND;TZID=Europe/Berlin:20261017T150000
DTSTAMP:20260424T114318
CREATED:20260215T170749Z
LAST-MODIFIED:20260215T170749Z
UID:1374-1792227600-1792249200@www.asvforst.de
SUMMARY:Reisigsammlung
DESCRIPTION:
URL:https://www.asvforst.de/event/reisigsammlung-11/
LOCATION:Petri Hütte
ORGANIZER;CN="Angelsportverein Forst 1975 e.V.":MAILTO:Vorstand@asvforst.de
END:VEVENT
BEGIN:VEVENT
DTSTART;VALUE=DATE:20261025
DTEND;VALUE=DATE:20261026
DTSTAMP:20260424T114318
CREATED:20260215T170836Z
LAST-MODIFIED:20260215T170836Z
UID:1376-1792886400-1792972799@www.asvforst.de
SUMMARY:Raubfischangeln
DESCRIPTION:
URL:https://www.asvforst.de/event/raubfischangeln-11/
LOCATION:Petri Hütte
ORGANIZER;CN="Angelsportverein Forst 1975 e.V.":MAILTO:Vorstand@asvforst.de
END:VEVENT
BEGIN:VEVENT
DTSTART;VALUE=DATE:20261129
DTEND;VALUE=DATE:20261130
DTSTAMP:20260424T114318
CREATED:20260215T170909Z
LAST-MODIFIED:20260215T170909Z
UID:1378-1795910400-1795996799@www.asvforst.de
SUMMARY:Raubfischangeln
DESCRIPTION:
URL:https://www.asvforst.de/event/raubfischangeln-12/
LOCATION:Petri Hütte
ORGANIZER;CN="Angelsportverein Forst 1975 e.V.":MAILTO:Vorstand@asvforst.de
END:VEVENT
END:VCALENDAR